BEGIN:VCALENDAR
VERSION:2.0
PRODID:-//The Falany - ECPv6.15.20//NONSGML v1.0//EN
CALSCALE:GREGORIAN
METHOD:PUBLISH
X-ORIGINAL-URL:https://thefalany.com
X-WR-CALDESC:Events for The Falany
REFRESH-INTERVAL;VALUE=DURATION:PT1H
X-Robots-Tag:noindex
X-PUBLISHED-TTL:PT1H
BEGIN:VTIMEZONE
TZID:UTC
BEGIN:STANDARD
TZOFFSETFROM:+0000
TZOFFSETTO:+0000
TZNAME:UTC
DTSTART:20240101T000000
END:STANDARD
END:VTIMEZONE
BEGIN:VEVENT
DTSTART;TZID=UTC:20251214T130000
DTEND;TZID=UTC:20251214T160000
DTSTAMP:20260420T070602
CREATED:20250613T142821Z
LAST-MODIFIED:20250613T142821Z
UID:1128-1765717200-1765728000@thefalany.com
SUMMARY:Visit With Santa
DESCRIPTION:Join us for a visit with Santa! Drive to the front of the Falany\, take photos with Santa\, drop your letter in the North Pole mailbox\, grab a goodie bag\, and be on your merry way! \nLocation: Falany Front Porch \nSunday\, Dec. 14\, 1 p.m. – 4 p.m. \nPrice: $0.00 \n 
URL:https://thefalany.com/event/visit-with-santa-2/
LOCATION:The Falany Performing Arts Center\, 199 Fine Arts Dr\, Waleska\, GA\, 30183-2981\, United States
ATTACH;FMTTYPE=image/jpeg:https://thefalany.com/wp-content/uploads/2024/04/Santa-Pic.jpeg
END:VEVENT
END:VCALENDAR