BEGIN:VCALENDAR
VERSION:2.0
PRODID:-//The Falany - ECPv6.15.20//NONSGML v1.0//EN
CALSCALE:GREGORIAN
METHOD:PUBLISH
X-WR-CALNAME:The Falany
X-ORIGINAL-URL:https://thefalany.com
X-WR-CALDESC:Events for The Falany
REFRESH-INTERVAL;VALUE=DURATION:PT1H
X-Robots-Tag:noindex
X-PUBLISHED-TTL:PT1H
BEGIN:VTIMEZONE
TZID:UTC
BEGIN:STANDARD
TZOFFSETFROM:+0000
TZOFFSETTO:+0000
TZNAME:UTC
DTSTART:20240101T000000
END:STANDARD
END:VTIMEZONE
BEGIN:VEVENT
DTSTART;TZID=UTC:20250201T150000
DTEND;TZID=UTC:20250201T210000
DTSTAMP:20260420T123517
CREATED:20240515T003427Z
LAST-MODIFIED:20240515T003427Z
UID:673-1738422000-1738443600@thefalany.com
SUMMARY:Uptown
DESCRIPTION:From New York City\, the epicenter of contemporary Pop and Soul\, Uptown is a group of men who combine the smooth stylings of R&B with the fresh hits of today. The perfect mix of Bruno Mars caliber stage presence with the vocals of Stevie Wonder and Marvin Gaye. You’ve never seen anything like Uptown! Each member of the collective is a soloist\, bringing a unique flavor of performance that will have any crowd on their feet dancing and singing along. Regardless of the genre or era of music\, The Uptown Show exudes freshness and fun in a way that everyone will enjoy. \nTimes: \n\nSaturday\, February 1 @ 3PM\nSaturday\, February 1 @ 7:30PM\n\nLocation: Flint Hall \nTickets: \n\nAdults: $45\nSeniors: $40\nChildren: $15
URL:https://thefalany.com/event/uptown/
LOCATION:The Falany Performing Arts Center\, 199 Fine Arts Dr\, Waleska\, GA\, 30183-2981\, United States
END:VEVENT
END:VCALENDAR