BEGIN:VCALENDAR
VERSION:2.0
PRODID:-//The Falany - ECPv6.15.20//NONSGML v1.0//EN
CALSCALE:GREGORIAN
METHOD:PUBLISH
X-ORIGINAL-URL:https://thefalany.com
X-WR-CALDESC:Events for The Falany
REFRESH-INTERVAL;VALUE=DURATION:PT1H
X-Robots-Tag:noindex
X-PUBLISHED-TTL:PT1H
BEGIN:VTIMEZONE
TZID:UTC
BEGIN:STANDARD
TZOFFSETFROM:+0000
TZOFFSETTO:+0000
TZNAME:UTC
DTSTART:20250101T000000
END:STANDARD
END:VTIMEZONE
BEGIN:VEVENT
DTSTART;TZID=UTC:20260407T193000
DTEND;TZID=UTC:20260407T210000
DTSTAMP:20260425T201509
CREATED:20250613T143639Z
LAST-MODIFIED:20260223T211521Z
UID:1165-1775590200-1775595600@thefalany.com
SUMMARY:The Reinhardt University Percussion Ensemble - 2026 Spring Concert
DESCRIPTION:THE UNIVERSITY PERCUSSION AND JAZZ ENSEMBLE\nThe University Percussion Ensemble concerts are sure to bring an exciting evening of music to our guests. The students in the ensemble must learn to perform at a professional level and to rely on each other to perform their pieces. The percussion ensemble utilizes all the percussion equipment available and will amaze the audience with its complex rhythms\, stamina\, and focus. There will also be performances from the jazz ensemble! \nLocation: Flint Hall \nTuesday\, Apr. 7\, 7:30 p.m.
URL:https://thefalany.com/event/the-reinhardt-university-percussion-ensemble-2026-spring-concert/
LOCATION:The Falany Performing Arts Center\, 199 Fine Arts Dr\, Waleska\, GA\, 30183-2981\, United States
ATTACH;FMTTYPE=image/png:https://thefalany.com/wp-content/uploads/2024/05/Percussion-and-Jazz-Graphic.png
END:VEVENT
END:VCALENDAR