BEGIN:VCALENDAR
VERSION:2.0
PRODID:-//The Falany - ECPv6.15.20//NONSGML v1.0//EN
CALSCALE:GREGORIAN
METHOD:PUBLISH
X-ORIGINAL-URL:https://thefalany.com
X-WR-CALDESC:Events for The Falany
REFRESH-INTERVAL;VALUE=DURATION:PT1H
X-Robots-Tag:noindex
X-PUBLISHED-TTL:PT1H
BEGIN:VTIMEZONE
TZID:UTC
BEGIN:STANDARD
TZOFFSETFROM:+0000
TZOFFSETTO:+0000
TZNAME:UTC
DTSTART:20240101T000000
END:STANDARD
END:VTIMEZONE
BEGIN:VEVENT
DTSTART;TZID=UTC:20250207T193000
DTEND;TZID=UTC:20250207T213000
DTSTAMP:20260422T100228
CREATED:20240515T003410Z
LAST-MODIFIED:20240515T003410Z
UID:675-1738956600-1738963800@thefalany.com
SUMMARY:Swearingen and Kelli Fire and Rain
DESCRIPTION:After a night of impromptu duets at St. Petersburg\, Florida’s cozy listening room the Hideaway\, solo artists AJ Swearingen and Jayne Kelli joined forces to create the Americana duo Swearingen & Kelli. On the cusp of releasing their third record\, the Nashville-based artists keep finding fresh ways of plying their flowing harmonies\, sweeping pedal steel\, and storytelling-style lyrics. \nTime: Friday\, February 7\, 2025 at 7:30PM \nLocation: Flint Hall \nTickets: \n\nAdults: $35\nSeniors: $30\nChildren: $15
URL:https://thefalany.com/event/swearingen-and-kelli-fire-and-rain/
LOCATION:The Falany Performing Arts Center\, 199 Fine Arts Dr\, Waleska\, GA\, 30183-2981\, United States
END:VEVENT
END:VCALENDAR