BEGIN:VCALENDAR
VERSION:2.0
PRODID:-//The Falany - ECPv6.15.20//NONSGML v1.0//EN
CALSCALE:GREGORIAN
METHOD:PUBLISH
X-ORIGINAL-URL:https://thefalany.com
X-WR-CALDESC:Events for The Falany
REFRESH-INTERVAL;VALUE=DURATION:PT1H
X-Robots-Tag:noindex
X-PUBLISHED-TTL:PT1H
BEGIN:VTIMEZONE
TZID:UTC
BEGIN:STANDARD
TZOFFSETFROM:+0000
TZOFFSETTO:+0000
TZNAME:UTC
DTSTART:20240101T000000
END:STANDARD
END:VTIMEZONE
BEGIN:VEVENT
DTSTART;TZID=UTC:20250315T150000
DTEND;TZID=UTC:20250315T210000
DTSTAMP:20260424T155909
CREATED:20240515T003213Z
LAST-MODIFIED:20240515T003213Z
UID:685-1742050800-1742072400@thefalany.com
SUMMARY:James Tormé
DESCRIPTION:James Tormé is fast becoming one of the world’s most celebrated artists. He is blessed with the ability to interpret melody and lyrics with stunning versatility\, scats like a virtuoso\, and yet remains as natural a singer as any on earth. \nA bridge between tradition and revolution (he is the son of three-time Grammy winner and Jazz legend Mel Tormé)\, Tormé’s jazz-inspired mash-ups harken those of “greats” such as Anita O’Day or Ella Fitzgerald. \nLike all great entertainers\, his charm\, ready wit\, and hypnotic stage presence appear effortless. These qualities have led the media to describe him as “Old school charm meets new school swagger” and “One of the most extraordinary singers of a generation”. \nTimes: \n\nSaturday\, March 15 @ 3PM\nSaturday\, March 15 @ 7:30PM\n\nLocation: Flint Hall \nTickets: \n\nAdults: $45\nSeniors: $40\nChildren: $15
URL:https://thefalany.com/event/james-torme/
LOCATION:The Falany Performing Arts Center\, 199 Fine Arts Dr\, Waleska\, GA\, 30183-2981\, United States
END:VEVENT
END:VCALENDAR