BEGIN:VCALENDAR
VERSION:2.0
PRODID:-//The Falany - ECPv6.15.20//NONSGML v1.0//EN
CALSCALE:GREGORIAN
METHOD:PUBLISH
X-WR-CALNAME:The Falany
X-ORIGINAL-URL:https://thefalany.com
X-WR-CALDESC:Events for The Falany
REFRESH-INTERVAL;VALUE=DURATION:PT1H
X-Robots-Tag:noindex
X-PUBLISHED-TTL:PT1H
BEGIN:VTIMEZONE
TZID:UTC
BEGIN:STANDARD
TZOFFSETFROM:+0000
TZOFFSETTO:+0000
TZNAME:UTC
DTSTART:20240101T000000
END:STANDARD
END:VTIMEZONE
BEGIN:VEVENT
DTSTART;TZID=UTC:20250125T190000
DTEND;TZID=UTC:20250125T210000
DTSTAMP:20260422T095833
CREATED:20240515T003440Z
LAST-MODIFIED:20240515T003440Z
UID:671-1737831600-1737838800@thefalany.com
SUMMARY:Doo-Wah Riders
DESCRIPTION:There is no one else like the Doo-Wah Riders. For 40 years they have been riding their own patch of the musical range throughout the west. They possess the rare combination of many years of experience and youthful energy\, fired by a love for what they do. The Doo-Wahs are country\, with a unique original sound. They define their sound as “high energy country with a Cajun twist.” Their tight musicianship and powerful arrangements of classic\, contemporary\, and original songs have made them favorites everywhere they go. \nTimes: \n\nSaturday\, January 25 @ 3PM\nSaturday\, January 25 @7:30PM\n\nLocation: Flint Hall \nTickets: \n\nAdults: $44\nSeniors: $39\nChildren: $15
URL:https://thefalany.com/event/doo-wah-riders/
LOCATION:The Falany Performing Arts Center\, 199 Fine Arts Dr\, Waleska\, GA\, 30183-2981\, United States
END:VEVENT
END:VCALENDAR