BEGIN:VCALENDAR
VERSION:2.0
PRODID:-//The Falany - ECPv6.15.20//NONSGML v1.0//EN
CALSCALE:GREGORIAN
METHOD:PUBLISH
X-WR-CALNAME:The Falany
X-ORIGINAL-URL:https://thefalany.com
X-WR-CALDESC:Events for The Falany
REFRESH-INTERVAL;VALUE=DURATION:PT1H
X-Robots-Tag:noindex
X-PUBLISHED-TTL:PT1H
BEGIN:VTIMEZONE
TZID:UTC
BEGIN:STANDARD
TZOFFSETFROM:+0000
TZOFFSETTO:+0000
TZNAME:UTC
DTSTART:20230101T000000
END:STANDARD
END:VTIMEZONE
BEGIN:VEVENT
DTSTART;TZID=UTC:20241217T150000
DTEND;TZID=UTC:20241217T210000
DTSTAMP:20260422T153717
CREATED:20240515T003506Z
LAST-MODIFIED:20240515T003506Z
UID:561-1734447600-1734469200@thefalany.com
SUMMARY:Celtic Angels Christmas
DESCRIPTION:Celtic Angels Christmas is a joyous celebration from start to finish\, encompassing vocal and instrumental Holiday and Irish favorites. Paired with show-stopping world-class champion Irish dancing and a fully live band\, Celtic Angels Christmas is sure to awe and entertain. \nThese dynamic divas enthrall and delight with their jaw-dropping performances and spine-tingling harmonies. Musical arranger Peter Sheridan (Cavan\, Celtic Thunder) ingeniously marries the old and new worlds with traditional and contemporary Irish and Holiday tunes. Brought to life by the immensely talented Trinity Ensemble. Hands will be clapping and toes will be tapping. \nTimes: \n\nTuesday\, December 17 @ 3PM\nTuesday\, December 17 @ 7:30PM\n\nLocation: Flint Hall \nTickets: \n\nAdults: $45\nSeniors: $40\nChildren: $15
URL:https://thefalany.com/event/celtic-angels-christmas/
LOCATION:The Falany Performing Arts Center\, 199 Fine Arts Dr\, Waleska\, GA\, 30183-2981\, United States
ATTACH;FMTTYPE=image/jpeg:https://thefalany.com/wp-content/uploads/2024/03/CelticAngelsChristmas-3807056835.jpg
END:VEVENT
END:VCALENDAR